BEGIN:VCALENDAR
VERSION:2.0
PRODID:-//PMMA - ECPv6.15.20//NONSGML v1.0//EN
CALSCALE:GREGORIAN
METHOD:PUBLISH
X-ORIGINAL-URL:https://www.presbyterianmanors.org
X-WR-CALDESC:Events for PMMA
REFRESH-INTERVAL;VALUE=DURATION:PT1H
X-Robots-Tag:noindex
X-PUBLISHED-TTL:PT1H
BEGIN:VTIMEZONE
TZID:America/Chicago
BEGIN:DAYLIGHT
TZOFFSETFROM:-0600
TZOFFSETTO:-0500
TZNAME:CDT
DTSTART:20230312T080000
END:DAYLIGHT
BEGIN:STANDARD
TZOFFSETFROM:-0500
TZOFFSETTO:-0600
TZNAME:CST
DTSTART:20231105T070000
END:STANDARD
BEGIN:DAYLIGHT
TZOFFSETFROM:-0600
TZOFFSETTO:-0500
TZNAME:CDT
DTSTART:20240310T080000
END:DAYLIGHT
BEGIN:STANDARD
TZOFFSETFROM:-0500
TZOFFSETTO:-0600
TZNAME:CST
DTSTART:20241103T070000
END:STANDARD
BEGIN:DAYLIGHT
TZOFFSETFROM:-0600
TZOFFSETTO:-0500
TZNAME:CDT
DTSTART:20250309T080000
END:DAYLIGHT
BEGIN:STANDARD
TZOFFSETFROM:-0500
TZOFFSETTO:-0600
TZNAME:CST
DTSTART:20251102T070000
END:STANDARD
BEGIN:DAYLIGHT
TZOFFSETFROM:-0600
TZOFFSETTO:-0500
TZNAME:CDT
DTSTART:20260308T080000
END:DAYLIGHT
BEGIN:STANDARD
TZOFFSETFROM:-0500
TZOFFSETTO:-0600
TZNAME:CST
DTSTART:20261101T070000
END:STANDARD
END:VTIMEZONE
BEGIN:VEVENT
DTSTART;TZID=America/Chicago:20251024T180000
DTEND;TZID=America/Chicago:20251024T210000
DTSTAMP:20260423T065021
CREATED:20250808T152915Z
LAST-MODIFIED:20250808T152915Z
UID:10000058-1761328800-1761339600@www.presbyterianmanors.org
SUMMARY:WALK TO END ALZHEIMER’S
DESCRIPTION:Help Wichita Presbyterian Manor in the fight against Alzheimer’s by donating or join us in the Walk to End Alzheimer’s. \nOctober 24th \n6 pm (walk begins after opening ceremony) \nWichita WaterWalk  \n515 S. Wichita St. Wichita\, KS 67202 \nJoin our Team or Donate
URL:https://www.presbyterianmanors.org/event/walk-to-end-alzheimers-wpm/
LOCATION:Wichita WaterWalk\, 515 S. Wichita\, Wichita\, United States
CATEGORIES:Wichita Presbyterian Manor
END:VEVENT
BEGIN:VEVENT
DTSTART;TZID=America/Chicago:20251024T180000
DTEND;TZID=America/Chicago:20251024T210000
DTSTAMP:20260423T065021
CREATED:20250808T152311Z
LAST-MODIFIED:20250808T152546Z
UID:10000057-1761328800-1761339600@www.presbyterianmanors.org
SUMMARY:WALK TO END ALZHEIMER’S
DESCRIPTION:Help Newton Presbyterian Manor in the fight against Alzheimer’s by donating or join us in the Walk to End Alzheimer’s. \nOctober 24th \n6 pm (walk begins after opening ceremony) \nWichita WaterWalk  \n515 S. Wichita St. Wichita\, KS 67202 \nJoin our Team or Donate
URL:https://www.presbyterianmanors.org/event/walk-to-end-alzheimers-npm/
LOCATION:Wichita WaterWalk\, 515 S. Wichita\, Wichita\, United States
CATEGORIES:Newton Presbyterian Manor
END:VEVENT
BEGIN:VEVENT
DTSTART;TZID=America/Chicago:20251024T180000
DTEND;TZID=America/Chicago:20251024T210000
DTSTAMP:20260423T065021
CREATED:20250807T194801Z
LAST-MODIFIED:20250807T194801Z
UID:10000056-1761328800-1761339600@www.presbyterianmanors.org
SUMMARY:WALK TO END ALZHEIMER’S
DESCRIPTION:Help Arkansas City Presbyterian Manor in the fight against Alzheimer’s by donating or join us in the Walk to End Alzheimer’s. \nOctober 24th \n6 pm (walk begins after opening ceremony) \nWichita WaterWalk  \n515 S. Wichita St. Wichita\, KS 67202 \nJoin our Team or Donate
URL:https://www.presbyterianmanors.org/event/walk-to-end-alzheimers-acpm/
LOCATION:Wichita WaterWalk\, 515 S. Wichita\, Wichita\, United States
CATEGORIES:Arkansas City Presbyterian Manor
END:VEVENT
BEGIN:VEVENT
DTSTART;TZID=America/Chicago:20241025T180000
DTEND;TZID=America/Chicago:20241025T210000
DTSTAMP:20260423T065021
CREATED:20240926T201953Z
LAST-MODIFIED:20240926T202103Z
UID:10000011-1729879200-1729890000@www.presbyterianmanors.org
SUMMARY:WALK TO END ALZHEIMER’S
DESCRIPTION:Join or donate
URL:https://www.presbyterianmanors.org/event/walk-to-end-alzheimers-3/
LOCATION:Wichita WaterWalk\, 515 S. Wichita\, Wichita\, United States
CATEGORIES:Newton Presbyterian Manor
ATTACH;FMTTYPE=image/jpeg:https://www.presbyterianmanors.org/wp-content/uploads/NPM-Alz-Walk-Web-Graphic-ckt-082024-e1727382608874.jpg
END:VEVENT
END:VCALENDAR