BEGIN:VCALENDAR
VERSION:2.0
PRODID:-//PMMA - ECPv6.15.20//NONSGML v1.0//EN
CALSCALE:GREGORIAN
METHOD:PUBLISH
X-ORIGINAL-URL:https://www.presbyterianmanors.org
X-WR-CALDESC:Events for PMMA
REFRESH-INTERVAL;VALUE=DURATION:PT1H
X-Robots-Tag:noindex
X-PUBLISHED-TTL:PT1H
BEGIN:VTIMEZONE
TZID:America/Chicago
BEGIN:DAYLIGHT
TZOFFSETFROM:-0600
TZOFFSETTO:-0500
TZNAME:CDT
DTSTART:20240310T080000
END:DAYLIGHT
BEGIN:STANDARD
TZOFFSETFROM:-0500
TZOFFSETTO:-0600
TZNAME:CST
DTSTART:20241103T070000
END:STANDARD
BEGIN:DAYLIGHT
TZOFFSETFROM:-0600
TZOFFSETTO:-0500
TZNAME:CDT
DTSTART:20250309T080000
END:DAYLIGHT
BEGIN:STANDARD
TZOFFSETFROM:-0500
TZOFFSETTO:-0600
TZNAME:CST
DTSTART:20251102T070000
END:STANDARD
BEGIN:DAYLIGHT
TZOFFSETFROM:-0600
TZOFFSETTO:-0500
TZNAME:CDT
DTSTART:20260308T080000
END:DAYLIGHT
BEGIN:STANDARD
TZOFFSETFROM:-0500
TZOFFSETTO:-0600
TZNAME:CST
DTSTART:20261101T070000
END:STANDARD
BEGIN:DAYLIGHT
TZOFFSETFROM:-0600
TZOFFSETTO:-0500
TZNAME:CDT
DTSTART:20270314T080000
END:DAYLIGHT
BEGIN:STANDARD
TZOFFSETFROM:-0500
TZOFFSETTO:-0600
TZNAME:CST
DTSTART:20271107T070000
END:STANDARD
END:VTIMEZONE
BEGIN:VEVENT
DTSTART;TZID=America/Chicago:20260330T080000
DTEND;TZID=America/Chicago:20260410T170000
DTSTAMP:20260422T135011
CREATED:20260211T195925Z
LAST-MODIFIED:20260211T195925Z
UID:10000087-1774857600-1775840400@www.presbyterianmanors.org
SUMMARY:2026 Art is Ageless Exhibit at Fort Scott Presbyterian Village
DESCRIPTION:Celebrate the works of local artists during  Fort Scott Presbyterian Village’s annual Art is Ageless® exhibit. \nThe exhibit will feature entries from area artists who are 65 years or older.\nIt will be open March 30 – April 10\, from 8 a.m. – 5:00 p.m.\, in the First Floor Lobby at Fort Scott Presbyterian Village\, 2401 S. Horton St. in Fort Scott. \nThe public is welcome to view the exhibit of acrylics\, oils\, photography and various other mediums\, ranging from amateur to professional levels. The exhibit is part of the annual Art is Ageless juried competition.  Winning pieces at the community level move on to a masterpiece level judging to determine which pieces will be featured in the 2027 Art is Ageless calendar and note cards.\nLocal competition winners will be featured on Fort Scott Presbyterian Village’s Facebook page and the Art is Ageless website. \nEntries of artistic works will be accepted from any area artist who is aged 65 or older until 3 p.m. on March 25.  Entries must be delivered to Fort Scott Presbyterian Village. \nFor more information about the exhibit and how to enter\, contact Angela Carpenter at 620-223-5550 or acarpenter@pmma.org.
URL:https://www.presbyterianmanors.org/event/2026-art-is-ageless-exhibit-at-fort-scott-presbyterian-village/
LOCATION:Fort Scott Presbyterian Village\, 2401 S Horton St.\, Fort Scott\, Kansas\, 66701
CATEGORIES:Fort Scott Presbyterian Village
ATTACH;FMTTYPE=image/webp:https://www.presbyterianmanors.org/wp-content/uploads/2026_Call-for-Entries-_FB2.webp
END:VEVENT
BEGIN:VEVENT
DTSTART;TZID=America/Chicago:20251106T140000
DTEND;TZID=America/Chicago:20251106T160000
DTSTAMP:20260422T135011
CREATED:20251010T165233Z
LAST-MODIFIED:20251010T165233Z
UID:10000073-1762437600-1762444800@www.presbyterianmanors.org
SUMMARY:StemWave: A new way to address pain
DESCRIPTION:Fort Scott Presbyterian Village invites you to learn more about StemWave\, a non-invasive therapy designed to alleviate pain\, reduce inflammation\, and improve range of motion. \nThis new technology is ideal for a variety of conditions and can promote a natural recovery. \nJoin us November 6\, 2025 from 2-4 p.m. to learn about how it could help you.  \nRegister by October 30: Contact Angela Carpenter at 620-223-5550 or acarpenter@pmma.org \nOur guest speaker: \nKinede Jennings\, FNP\, is the visionary behind Blissful Aesthetics and Wellness\, a medical spa with a holistic approach to wellness. Kinede and her team believe that beauty comes from the inside-out\, which is why they offer an unbeatable selection of beauty and wellness treatments.
URL:https://www.presbyterianmanors.org/event/stemwave-a-new-way-to-address-pain/
LOCATION:Fort Scott Presbyterian Village\, 2401 S Horton St.\, Fort Scott\, Kansas\, 66701
CATEGORIES:Fort Scott Presbyterian Village
ATTACH;FMTTYPE=image/webp:https://www.presbyterianmanors.org/wp-content/uploads/FSPV-JA-StemWave-FBPost-Oct-2025-e1760115133467.webp
END:VEVENT
BEGIN:VEVENT
DTSTART;TZID=America/Chicago:20250319T080000
DTEND;TZID=America/Chicago:20250402T173000
DTSTAMP:20260422T135011
CREATED:20250217T173422Z
LAST-MODIFIED:20250217T173555Z
UID:10000039-1742371200-1743615000@www.presbyterianmanors.org
SUMMARY:Art is Ageless Exhibit at Fort Scott Presbyterian Village
DESCRIPTION:Celebrate the works of local artists during  Fort Scott Presbyterian Village’s annual Art is Ageless® exhibit. \nThe exhibit will feature entries from area artists who are 65 years or older.\nIt will be open March 19 – April 2\, 2025\, from 8 a.m. – 5:30 p.m.\, at Fort Scott Presbyterian Village\, 2401 S. Horton St. in Fort Scott. \nThe public is welcome to view the exhibit of acrylics\, oils\, photography and various other mediums\, ranging from amateur to professional levels. The exhibit is part of the annual Art is Ageless juried competition.  Winning pieces at the community level move on to a masterpiece level judging to determine which pieces will be featured in the 2026 Art is Ageless calendar and note cards.\nLocal competition winners will be featured on Fort Scott Presbyterian Village’s Facebook page and the Art is Ageless website. \nEntries of artistic works will be accepted from any area artist who is aged 65 or older until March 14\, 2025.  Entries must be delivered to Fort Scott Presbyterian Village. \nFor more information about the exhibit and how to enter\, contact Angela Carpenter at 620-223-5550 or acarpenter@pmma.org.
URL:https://www.presbyterianmanors.org/event/art-is-ageless-exhibit-at-fort-scott-presbyterian-village/
LOCATION:Fort Scott Presbyterian Village\, 2401 S Horton St.\, Fort Scott\, Kansas\, 66701
CATEGORIES:Fort Scott Presbyterian Village
ATTACH;FMTTYPE=image/webp:https://www.presbyterianmanors.org/wp-content/uploads/AiA_2025_Presentation_Graphic2_Presentation-scaled-1.webp
END:VEVENT
END:VCALENDAR